BEGIN:VCALENDAR
VERSION:2.0
PRODID:-//Bradeur.fr//FR
CALSCALE:GREGORIAN
METHOD:PUBLISH
BEGIN:VEVENT
UID:577-la-recre-des-petits-et-grands-brocante@bradeur.fr
DTSTAMP:20260425T180717Z
DTSTART:20260329T080000
DTEND:20260329T180000
SUMMARY:la récré des petits et grands — Brocante
DESCRIPTION:Dimanche 29 Mars 2026\nde 8h00 à 18h00\n\nla récré des petit
 s et grands\n62340 Guines
LOCATION:62340 Guines
URL:https://bradeur.fr/braderie.php?slug=la-recre-des-petits-et-grands-broc
 ante
END:VEVENT
END:VCALENDAR
