BEGIN:VCALENDAR
VERSION:2.0
PRODID:-//Bradeur.fr//FR
CALSCALE:GREGORIAN
METHOD:PUBLISH
BEGIN:VEVENT
UID:1031-la-touche-flinoise-brocante@bradeur.fr
DTSTAMP:20260425T220830Z
DTSTART:20260802T080000
DTEND:20260802T150000
SUMMARY:La Touche Flinoise — Brocante
DESCRIPTION:Dimanche 2 Août 2026\nde 8h00 à 15h00\n\nLa Touche Flinoise\n
 59148 Flines Lez Raches
LOCATION:59148 Flines Lez Raches
URL:https://bradeur.fr/braderie.php?slug=la-touche-flinoise-brocante
END:VEVENT
END:VCALENDAR
