BEGIN:VCALENDAR
VERSION:2.0
PRODID:-//Bradeur.fr//FR
CALSCALE:GREGORIAN
METHOD:PUBLISH
BEGIN:VEVENT
UID:732-laique-bourse-collections@bradeur.fr
DTSTAMP:20260425T234800Z
DTSTART:20260426T090000
DTEND:20260426T154500
SUMMARY:Laïque — Bourse Collections
DESCRIPTION:Elle permet l'organisation d'activités éducatives et sociales
  ainsi que des loisirs sportifs et culturels. Elle établit un lien entre l
 es familles et l'École afin de permettre à celle-ci de remplir pleinement
  sa mission. Elle rassemble les adhérents répartis en onze sections: 4 se
 ctions sportives:handball, aérogym,stretching et danse, 3 sections culture
 lles:…\n\nDimanche 26 Avril 2026\nde 9h00 à 15h4
LOCATION:59960 Neuville En Ferrain
URL:https://bradeur.fr/braderie.php?slug=laique-bourse-collections
END:VEVENT
END:VCALENDAR
