BEGIN:VCALENDAR
VERSION:2.0
PRODID:-//Bradeur.fr//FR
CALSCALE:GREGORIAN
METHOD:PUBLISH
BEGIN:VEVENT
UID:1116-laique-bourse-collections-1@bradeur.fr
DTSTAMP:20260425T175858Z
DTSTART:20261018T083000
DTEND:20261018T190000
SUMMARY:laïque — Bourse Collections
DESCRIPTION:Dimanche 18 Octobre 2026\nde 8h30 à 19h00\n\nlaïque\n59172 Ro
 eulx
LOCATION:59172 Roeulx
URL:https://bradeur.fr/braderie.php?slug=laique-bourse-collections-1
END:VEVENT
END:VCALENDAR
