BEGIN:VCALENDAR
VERSION:2.0
PRODID:-//Bradeur.fr//FR
CALSCALE:GREGORIAN
METHOD:PUBLISH
BEGIN:VEVENT
UID:1135-laique-puces-1@bradeur.fr
DTSTAMP:20260425T175857Z
DTSTART:20261115T070000
DTEND:20261115T160000
SUMMARY:Laique — Puces
DESCRIPTION:Dimanche 15 Novembre 2026\nde 7h00 à 16h00\n\nLaique\n62172 Bo
 uvigny Boyeffles
LOCATION:62172 Bouvigny Boyeffles
URL:https://bradeur.fr/braderie.php?slug=laique-puces-1
END:VEVENT
END:VCALENDAR
