BEGIN:VCALENDAR
VERSION:2.0
PRODID:-//Bradeur.fr//FR
CALSCALE:GREGORIAN
METHOD:PUBLISH
BEGIN:VEVENT
UID:592-laruchechapelloise59-gmail-com-la-ruche-chapelloise-vide-dressings@
 bradeur.fr
DTSTAMP:20260425T180835Z
DTSTART:20260404T093000
DTEND:20260404T150000
SUMMARY:Laruchechapelloise59@gmail.com — La Ruche Chapelloise Vide Dressi
 ngs
DESCRIPTION:Site officiel de la mairie de La Chapelle d’Armentières\n\nS
 amedi 4 Avril 2026\nde 9h30 à 15h00\n\nLaruchechapelloise59@gmail.com\n599
 30 La Chapelle D'armentieres
LOCATION:59930 La Chapelle D'armentieres
URL:https://bradeur.fr/braderie.php?slug=laruchechapelloise59-gmail-com-la-
 ruche-chapelloise-vide-dressings
END:VEVENT
END:VCALENDAR
