BEGIN:VCALENDAR
VERSION:2.0
PRODID:-//Bradeur.fr//FR
CALSCALE:GREGORIAN
METHOD:PUBLISH
BEGIN:VEVENT
UID:618-lebienetredekayliah09-outlook-fr-brocante@bradeur.fr
DTSTAMP:20260425T210412Z
DTSTART:20260405T080000
DTEND:20260405T180000
SUMMARY:lebienetredekayliah09@outlook.fr — Brocante
DESCRIPTION:Bienvenue sur le site officiel de la mairie de Wissant\n\nDiman
 che 5 Avril 2026\nde 8h00 à 18h00\n\nlebienetredekayliah09@outlook.fr\n621
 79 Wissant
LOCATION:62179 Wissant
URL:https://bradeur.fr/braderie.php?slug=lebienetredekayliah09-outlook-fr-b
 rocante
END:VEVENT
END:VCALENDAR
