BEGIN:VCALENDAR
VERSION:2.0
PRODID:-//Bradeur.fr//FR
CALSCALE:GREGORIAN
METHOD:PUBLISH
BEGIN:VEVENT
UID:829-lensois-vide-greniers@bradeur.fr
DTSTAMP:20260425T204232Z
DTSTART:20260509T070000
DTEND:20260509T170000
SUMMARY:Lensois — Vide-greniers
DESCRIPTION:Samedi 9 Mai 2026\nde 7h00 à 17h00\n\nLensois\n62300 Lens
LOCATION:62300 Lens
URL:https://bradeur.fr/braderie.php?slug=lensois-vide-greniers
END:VEVENT
END:VCALENDAR
