BEGIN:VCALENDAR
VERSION:2.0
PRODID:-//Bradeur.fr//FR
CALSCALE:GREGORIAN
METHOD:PUBLISH
BEGIN:VEVENT
UID:999-les-aines-vide-greniers@bradeur.fr
DTSTAMP:20260425T234938Z
DTSTART:20260705T070000
DTEND:20260705T170000
SUMMARY:les ainés — Vide-greniers
DESCRIPTION:VILLE D'OCHTEZEELE, OCHTEZEELE, votre conseil municipal\n\nDima
 nche 5 Juillet 2026\nde 7h00 à 17h00\n\nles ainés\n59670 Ochtezeele
LOCATION:59670 Ochtezeele
URL:https://bradeur.fr/braderie.php?slug=les-aines-vide-greniers
END:VEVENT
END:VCALENDAR
