BEGIN:VCALENDAR
VERSION:2.0
PRODID:-//Bradeur.fr//FR
CALSCALE:GREGORIAN
METHOD:PUBLISH
BEGIN:VEVENT
UID:1050-les-amis-bryessois-brocante@bradeur.fr
DTSTAMP:20260425T205903Z
DTSTART:20260816T060000
DTEND:20260816T180000
SUMMARY:les Amis Bryessois — Brocante
DESCRIPTION:Site officiel de la commune de Bry. Mairie de Bry - 16 Rue de l
 'église, 59144 Bry 03 27 49 73 80 mairie-bry@orange.fr\n\nDimanche 16 Aoû
 t 2026\nde 6h00 à 18h00\n\nles Amis Bryessois\n59144 Bry
LOCATION:59144 Bry
URL:https://bradeur.fr/braderie.php?slug=les-amis-bryessois-brocante
END:VEVENT
END:VCALENDAR
