BEGIN:VCALENDAR
VERSION:2.0
PRODID:-//Bradeur.fr//FR
CALSCALE:GREGORIAN
METHOD:PUBLISH
BEGIN:VEVENT
UID:1086-les-amis-de-cobrieux-bourse-collections@bradeur.fr
DTSTAMP:20260425T204853Z
DTSTART:20260927T090000
DTEND:20260927T170000
SUMMARY:les amis de Cobrieux — Bourse Collections
DESCRIPTION:Dimanche 27 Septembre 2026\nde 9h00 à 17h00\n\nles amis de Cob
 rieux\n59830 Cobrieux
LOCATION:59830 Cobrieux
URL:https://bradeur.fr/braderie.php?slug=les-amis-de-cobrieux-bourse-collec
 tions
END:VEVENT
END:VCALENDAR
