BEGIN:VCALENDAR
VERSION:2.0
PRODID:-//Bradeur.fr//FR
CALSCALE:GREGORIAN
METHOD:PUBLISH
BEGIN:VEVENT
UID:588-les-amis-de-la-galette-vinyles@bradeur.fr
DTSTAMP:20260425T180416Z
DTSTART:20260329T090000
DTEND:20260329T180000
SUMMARY:Les amis de la galette — Vinyles
DESCRIPTION:Au vert à la mer et campagne ! Mairie de Quend, 1 rue de la Ma
 irie80120 Quend Tél : 03 22 23 21 20 La mairie de Quend vous accueille du:
  Lundi au vendredi de 9h00 à 16h00 sans interruption. Quend, avec son hist
 oire riche et son cadre naturel exceptionnel, est un endroit où il … Hom
 e Lire la suite »\n\nDimanche 29 Mars 2026\nde 9h00 à 18h00\n\nLes amis 
 de la galette\n80120 Quend
LOCATION:80120 Quend
URL:https://bradeur.fr/braderie.php?slug=les-amis-de-la-galette-vinyles
END:VEVENT
END:VCALENDAR
