BEGIN:VCALENDAR
VERSION:2.0
PRODID:-//Bradeur.fr//FR
CALSCALE:GREGORIAN
METHOD:PUBLISH
BEGIN:VEVENT
UID:969-les-amis-de-la-galette-vinyles-1@bradeur.fr
DTSTAMP:20260425T194146Z
DTSTART:20260614T090000
DTEND:20260614T180000
SUMMARY:Les amis de la galette — Vinyles
DESCRIPTION:Site officiel de la Ville Du Crotoy. Actualités, informations 
 pratiques, vie locale, tourisme, horaires, conseil municipaux et délibéra
 tions.\n\nDimanche 14 Juin 2026\nde 9h00 à 18h00\n\nLes amis de la galette
 \n80550 Le Crotoy
LOCATION:80550 Le Crotoy
URL:https://bradeur.fr/braderie.php?slug=les-amis-de-la-galette-vinyles-1
END:VEVENT
END:VCALENDAR
