BEGIN:VCALENDAR
VERSION:2.0
PRODID:-//Bradeur.fr//FR
CALSCALE:GREGORIAN
METHOD:PUBLISH
BEGIN:VEVENT
UID:779-les-amis-de-lesdain-vide-greniers@bradeur.fr
DTSTAMP:20260425T175113Z
DTSTART:20260501T080000
DTEND:20260501T170000
SUMMARY:Les amis de Lesdain — Vide-greniers
DESCRIPTION:Vendredi 1 Mai 2026\nde 8h00 à 17h00\n\nLes amis de Lesdain\nL
 esdain
LOCATION:Lesdain
URL:https://bradeur.fr/braderie.php?slug=les-amis-de-lesdain-vide-greniers
END:VEVENT
END:VCALENDAR
