BEGIN:VCALENDAR
VERSION:2.0
PRODID:-//Bradeur.fr//FR
CALSCALE:GREGORIAN
METHOD:PUBLISH
BEGIN:VEVENT
UID:658-les-amis-des-enfants-de-l-ecole-emile-coornaert-brocante@bradeur.fr
DTSTAMP:20260425T210524Z
DTSTART:20260412T080000
DTEND:20260412T160000
SUMMARY:Les amis des enfants de lécole Émile Coornaert — Brocante
DESCRIPTION:Hondschoote est une commune française située dans le départe
 ment du Nord (59) et la région Nord-Pas-de-Calais. Située au cœur de la 
 Flandre, Hondschoote fait partie depuis le 1er janvier 2014 de la Communaut
 é de Communes des Hauts de Flandre (CCHF) composée de 41 communes.\n\nDim
 anche 12 Avril 2026\nde 8h00 à 16h00\n\nLes amis des enfants de lécole 
 Émile Coornaert\n59122 Hondschoote
LOCATION:59122 Hondschoote
URL:https://bradeur.fr/braderie.php?slug=les-amis-des-enfants-de-l-ecole-em
 ile-coornaert-brocante
END:VEVENT
END:VCALENDAR
