BEGIN:VCALENDAR
VERSION:2.0
PRODID:-//Bradeur.fr//FR
CALSCALE:GREGORIAN
METHOD:PUBLISH
BEGIN:VEVENT
UID:1071-les-amis-du-champ-de-courses-vide-greniers@bradeur.fr
DTSTAMP:20260425T180436Z
DTSTART:20260913T080000
DTEND:20260913T130000
SUMMARY:Les Amis du Champ de Courses — Vide-greniers
DESCRIPTION:Bienvenue sur le site officiel de Lambersart. Découvrez ici to
 us les services de la ville : démarches en ligne, événements et actualit
 és.\n\nDimanche 13 Septembre 2026\nde 8h00 à 13h00\n\nLes Amis du Champ d
 e Courses\n59130 Lambersart
LOCATION:59130 Lambersart
URL:https://bradeur.fr/braderie.php?slug=les-amis-du-champ-de-courses-vide-
 greniers
END:VEVENT
END:VCALENDAR
