BEGIN:VCALENDAR
VERSION:2.0
PRODID:-//Bradeur.fr//FR
CALSCALE:GREGORIAN
METHOD:PUBLISH
BEGIN:VEVENT
UID:675-les-amis-du-moulin-puces@bradeur.fr
DTSTAMP:20260425T204900Z
DTSTART:20260412T080000
DTEND:20260412T170000
SUMMARY:Les amis du moulin — Puces
DESCRIPTION:Dimanche 12 Avril 2026\nde 8h00 à 17h00\n\nLes amis du moulin\
 n62172 Bouvigny Boyeffles
LOCATION:62172 Bouvigny Boyeffles
URL:https://bradeur.fr/braderie.php?slug=les-amis-du-moulin-puces
END:VEVENT
END:VCALENDAR
