BEGIN:VCALENDAR
VERSION:2.0
PRODID:-//Bradeur.fr//FR
CALSCALE:GREGORIAN
METHOD:PUBLISH
BEGIN:VEVENT
UID:748-les-bielles-alloeu-auto-a-laventie@bradeur.fr
DTSTAMP:20260425T205609Z
DTSTART:20260426T090000
DTEND:20260426T180000
SUMMARY:Les Bielles Alloeu Auto à Laventie
DESCRIPTION:Dimanche 26 Avril 2026\nde 9h00 à 18h00\n\nLes bielles d'Alloe
 u\n62840 Laventie
LOCATION:62840 Laventie
URL:https://bradeur.fr/braderie.php?slug=les-bielles-alloeu-auto-a-laventie
END:VEVENT
END:VCALENDAR
