BEGIN:VCALENDAR
VERSION:2.0
PRODID:-//Bradeur.fr//FR
CALSCALE:GREGORIAN
METHOD:PUBLISH
BEGIN:VEVENT
UID:1079-les-boules-en-bois-brocante-1@bradeur.fr
DTSTAMP:20260425T210145Z
DTSTART:20260920T070000
DTEND:20260920T170000
SUMMARY:les Boules en Bois — Brocante
DESCRIPTION:site officiel de la commune de rouvignies\n\nDimanche 20 Septem
 bre 2026\nde 7h00 à 17h00\n\nles Boules en Bois\n59220 Rouvignies
LOCATION:59220 Rouvignies
URL:https://bradeur.fr/braderie.php?slug=les-boules-en-bois-brocante-1
END:VEVENT
END:VCALENDAR
