BEGIN:VCALENDAR
VERSION:2.0
PRODID:-//Bradeur.fr//FR
CALSCALE:GREGORIAN
METHOD:PUBLISH
BEGIN:VEVENT
UID:703-les-collectionneurs-du-pays-de-cassel-bourse-collections@bradeur.fr
DTSTAMP:20260425T235921Z
DTSTART:20260419T090000
DTEND:20260419T170000
SUMMARY:Les Collectionneurs du Pays de Cassel — Bourse Collections
DESCRIPTION:Dimanche 19 Avril 2026\nde 9h00 à 17h00\n\nLes Collectionneurs
  du Pays de Cassel\n59670 Cassel
LOCATION:59670 Cassel
URL:https://bradeur.fr/braderie.php?slug=les-collectionneurs-du-pays-de-cas
 sel-bourse-collections
END:VEVENT
END:VCALENDAR
