BEGIN:VCALENDAR
VERSION:2.0
PRODID:-//Bradeur.fr//FR
CALSCALE:GREGORIAN
METHOD:PUBLISH
BEGIN:VEVENT
UID:745-les-en-jeux-podeens-vide-greniers@bradeur.fr
DTSTAMP:20260425T174945Z
DTSTART:20260426T080000
DTEND:20260426T180000
SUMMARY:Les en-jeux podéens — Vide-greniers
DESCRIPTION:Dimanche 26 Avril 2026\nde 8h00 à 18h00\n\nLes en-jeux podéen
 s\n59218 Poix Du Nord
LOCATION:59218 Poix Du Nord
URL:https://bradeur.fr/braderie.php?slug=les-en-jeux-podeens-vide-greniers
END:VEVENT
END:VCALENDAR
