BEGIN:VCALENDAR
VERSION:2.0
PRODID:-//Bradeur.fr//FR
CALSCALE:GREGORIAN
METHOD:PUBLISH
BEGIN:VEVENT
UID:908-les-jeunes-pousses-enfant-a-wannehain@bradeur.fr
DTSTAMP:20260425T194814Z
DTSTART:20260530T090000
DTEND:20260530T140000
SUMMARY:Les Jeunes Pousses Enfant à Wannehain
DESCRIPTION:Samedi 30 Mai 2026\nde 9h00 à 14h00\n\n59830 Wannehain
LOCATION:59830 Wannehain
URL:https://bradeur.fr/braderie.php?slug=les-jeunes-pousses-enfant-a-wanneh
 ain
END:VEVENT
END:VCALENDAR
