BEGIN:VCALENDAR
VERSION:2.0
PRODID:-//Bradeur.fr//FR
CALSCALE:GREGORIAN
METHOD:PUBLISH
BEGIN:VEVENT
UID:493-les-libellules-enfant-a-bully-les-mines@bradeur.fr
DTSTAMP:20260425T180415Z
DTSTART:20260314T083000
DTEND:20260315T170000
SUMMARY:Les Libellules Enfant à Bully Les Mines
DESCRIPTION:Samedi 14 Mars 2026\nde 8h30 à 17h00\n\nDimanche 15 Mars 2026\
 nde 8h30 à 17h00\n\n62160 Bully Les Mines
LOCATION:62160 Bully Les Mines
URL:https://bradeur.fr/braderie.php?slug=les-libellules-enfant-a-bully-les-
 mines
END:VEVENT
END:VCALENDAR
