BEGIN:VCALENDAR
VERSION:2.0
PRODID:-//Bradeur.fr//FR
CALSCALE:GREGORIAN
METHOD:PUBLISH
BEGIN:VEVENT
UID:513-les-p-tits-mains-brocante@bradeur.fr
DTSTAMP:20260425T180508Z
DTSTART:20260321T070000
DTEND:20260321T170000
SUMMARY:les p'tits mains — Brocante
DESCRIPTION:Samedi 21 Mars 2026\nde 7h00 à 17h00\n\nles p'tits mains\n5912
 2 Rexpoede
LOCATION:59122 Rexpoede
URL:https://bradeur.fr/braderie.php?slug=les-p-tits-mains-brocante
END:VEVENT
END:VCALENDAR
