BEGIN:VCALENDAR
VERSION:2.0
PRODID:-//Bradeur.fr//FR
CALSCALE:GREGORIAN
METHOD:PUBLISH
BEGIN:VEVENT
UID:722-les-p-tits-sorciers-de-marchiennes-les-petits-sorciers-enfant@brade
 ur.fr
DTSTAMP:20260425T194656Z
DTSTART:20260425T103000
DTEND:20260425T163000
SUMMARY:Les P'tits Sorciers de Marchiennes — Les Petits Sorciers Enfant
DESCRIPTION:Samedi 25 Avril 2026\nde 10h30 à 16h30\n\nLes P'tits Sorciers 
 de Marchiennes\n59870 Marchiennes
LOCATION:59870 Marchiennes
URL:https://bradeur.fr/braderie.php?slug=les-p-tits-sorciers-de-marchiennes
 -les-petits-sorciers-enfant
END:VEVENT
END:VCALENDAR
