BEGIN:VCALENDAR
VERSION:2.0
PRODID:-//Bradeur.fr//FR
CALSCALE:GREGORIAN
METHOD:PUBLISH
BEGIN:VEVENT
UID:734-les-p-tits-sorciers-de-marchiennes-vide-greniers@bradeur.fr
DTSTAMP:20260425T193226Z
DTSTART:20260426T080000
DTEND:20260426T130000
SUMMARY:Les P'tits Sorciers de Marchiennes — Vide-greniers
DESCRIPTION:Dimanche 26 Avril 2026\nde 8h00 à 13h00\n\nLes P'tits Sorciers
  de Marchiennes\n59870 Marchiennes
LOCATION:59870 Marchiennes
URL:https://bradeur.fr/braderie.php?slug=les-p-tits-sorciers-de-marchiennes
 -vide-greniers
END:VEVENT
END:VCALENDAR
