BEGIN:VCALENDAR
VERSION:2.0
PRODID:-//Bradeur.fr//FR
CALSCALE:GREGORIAN
METHOD:PUBLISH
BEGIN:VEVENT
UID:736-les-pecheurs-avesnois-les-pecheurs-avesnois-peche@bradeur.fr
DTSTAMP:20260425T194602Z
DTSTART:20260426T090000
DTEND:20260426T170000
SUMMARY:Les Pêcheurs Avesnois — Les Pecheurs Avesnois Peche
DESCRIPTION:Dimanche 26 Avril 2026\nde 9h00 à 17h00\n\nLes Pêcheurs Avesn
 ois\n59129 Avesnes Lez Aubert
LOCATION:59129 Avesnes Lez Aubert
URL:https://bradeur.fr/braderie.php?slug=les-pecheurs-avesnois-les-pecheurs
 -avesnois-peche
END:VEVENT
END:VCALENDAR
