BEGIN:VCALENDAR
VERSION:2.0
PRODID:-//Bradeur.fr//FR
CALSCALE:GREGORIAN
METHOD:PUBLISH
BEGIN:VEVENT
UID:761-les-petits-bouts-samusent-enfant-a-tourcoing@bradeur.fr
DTSTAMP:20260425T195105Z
DTSTART:20260501T090000
DTEND:20260501T170000
SUMMARY:Les Petits Bouts Samusent Enfant à Tourcoing
DESCRIPTION:Vendredi 1 Mai 2026\nde 9h00 à 17h00\n\n59200 Tourcoing
LOCATION:59200 Tourcoing
URL:https://bradeur.fr/braderie.php?slug=les-petits-bouts-samusent-enfant-a
 -tourcoing
END:VEVENT
END:VCALENDAR
