BEGIN:VCALENDAR
VERSION:2.0
PRODID:-//Bradeur.fr//FR
CALSCALE:GREGORIAN
METHOD:PUBLISH
BEGIN:VEVENT
UID:645-les-petits-originaux-bourse-a-dourges@bradeur.fr
DTSTAMP:20260425T175954Z
DTSTART:20260411T090000
DTEND:20260412T170000
SUMMARY:Les Petits Originaux Bourse à Dourges
DESCRIPTION:Samedi 11 Avril 2026\nde 9h00 à 17h00\n\nDimanche 12 Avril 202
 6\nde 9h00 à 17h00\n\n62119 Dourges
LOCATION:62119 Dourges
URL:https://bradeur.fr/braderie.php?slug=les-petits-originaux-bourse-a-dour
 ges
END:VEVENT
END:VCALENDAR
