BEGIN:VCALENDAR
VERSION:2.0
PRODID:-//Bradeur.fr//FR
CALSCALE:GREGORIAN
METHOD:PUBLISH
BEGIN:VEVENT
UID:963-les-vieilles-soupapes-artois-auto-a-carency@bradeur.fr
DTSTAMP:20260426T002628Z
DTSTART:20260614T090000
DTEND:20260614T180000
SUMMARY:Les Vieilles Soupapes Artois Auto à Carency
DESCRIPTION:Dimanche 14 Juin 2026\nde 9h00 à 18h00\n\nVieilles Soupapes d'
 Artois\n62144 Carency
LOCATION:62144 Carency
URL:https://bradeur.fr/braderie.php?slug=les-vieilles-soupapes-artois-auto-
 a-carency
END:VEVENT
END:VCALENDAR
