BEGIN:VCALENDAR
VERSION:2.0
PRODID:-//Bradeur.fr//FR
CALSCALE:GREGORIAN
METHOD:PUBLISH
BEGIN:VEVENT
UID:538-lille-modelisme-ferroviaire-a-lille@bradeur.fr
DTSTAMP:20260425T180318Z
DTSTART:20260328T130000
DTEND:20260329T190000
SUMMARY:Lille Modelisme Ferroviaire à Lille
DESCRIPTION:Samedi 28 Mars 2026\nde 13h00 à 19h00\n\nDimanche 29 Mars 2026
 \nde 10h00 à 18h00\n\nAccueil\n59000 Lille
LOCATION:59000 Lille
URL:https://bradeur.fr/braderie.php?slug=lille-modelisme-ferroviaire-a-lill
 e
END:VEVENT
END:VCALENDAR
