BEGIN:VCALENDAR
VERSION:2.0
PRODID:-//Bradeur.fr//FR
CALSCALE:GREGORIAN
METHOD:PUBLISH
BEGIN:VEVENT
UID:737-loisirs-anzinoise-braderie@bradeur.fr
DTSTAMP:20260425T193951Z
DTSTART:20260426T080000
DTEND:20260426T170000
SUMMARY:Loisirs Anzinoise — Braderie
DESCRIPTION:Dimanche 26 Avril 2026\nde 8h00 à 17h00\n\nLoisirs Anzinoise\n
 59410 Anzin
LOCATION:59410 Anzin
URL:https://bradeur.fr/braderie.php?slug=loisirs-anzinoise-braderie
END:VEVENT
END:VCALENDAR
