BEGIN:VCALENDAR
VERSION:2.0
PRODID:-//Bradeur.fr//FR
CALSCALE:GREGORIAN
METHOD:PUBLISH
BEGIN:VEVENT
UID:826-lovely-dance-country-la-buissiere-vide-greniers@bradeur.fr
DTSTAMP:20260425T210518Z
DTSTART:20260509T080000
DTEND:20260509T180000
SUMMARY:Lovely Dance Country la Buissière — Vide-greniers
DESCRIPTION:Édito du Maire   \nLudovic PAJOT         \nActualités \nL’a
 ssociation « Félins pour l’Autre » recherche des bénévoles\nEn\n\nSa
 medi 9 Mai 2026\nde 8h00 à 18h00\n\nLovely Dance Country la Buissière\n62
 700 Bruay La Buissière
LOCATION:62700 Bruay La Buissière
URL:https://bradeur.fr/braderie.php?slug=lovely-dance-country-la-buissiere-
 vide-greniers
END:VEVENT
END:VCALENDAR
