BEGIN:VCALENDAR
VERSION:2.0
PRODID:-//Bradeur.fr//FR
CALSCALE:GREGORIAN
METHOD:PUBLISH
BEGIN:VEVENT
UID:1085-mairie-brocante@bradeur.fr
DTSTAMP:20260425T204917Z
DTSTART:20260926T130000
DTEND:20260926T190000
SUMMARY:Mairie — Brocante
DESCRIPTION:Samedi 26 Septembre 2026\nde 13h00 à 19h00\n\nMairie\n62118 Ha
 mblain Les Prés
LOCATION:62118 Hamblain Les Prés
URL:https://bradeur.fr/braderie.php?slug=mairie-brocante
END:VEVENT
END:VCALENDAR
