BEGIN:VCALENDAR
VERSION:2.0
PRODID:-//Bradeur.fr//FR
CALSCALE:GREGORIAN
METHOD:PUBLISH
BEGIN:VEVENT
UID:994-mairie-d-armentieres-brocante@bradeur.fr
DTSTAMP:20260426T000202Z
DTSTART:20260704T080000
DTEND:20260704T180000
SUMMARY:mairie d'Armentieres — Brocante
DESCRIPTION:Samedi 4 Juillet 2026\nde 8h00 à 18h00\n\nmairie d'Armentieres
 \n59280 Armentieres
LOCATION:59280 Armentieres
URL:https://bradeur.fr/braderie.php?slug=mairie-d-armentieres-brocante
END:VEVENT
END:VCALENDAR
