BEGIN:VCALENDAR
VERSION:2.0
PRODID:-//Bradeur.fr//FR
CALSCALE:GREGORIAN
METHOD:PUBLISH
BEGIN:VEVENT
UID:534-mairie-d-avelin-vetements@bradeur.fr
DTSTAMP:20260425T180507Z
DTSTART:20260328T093000
DTEND:20260328T153000
SUMMARY:mairie d'Avelin â€” VÃªtements
DESCRIPTION:Site officiel de la Ville d'Avelin. Retrouvez toute l'actualitÃ
 ©, l'agenda culturel, les dÃ©marches administratives.\n\nSamedi 28 Mars 202
 6\nde 9h30 Ã  15h30\n\nmairie d'Avelin\n59710 Avelin
LOCATION:59710 Avelin
URL:https://bradeur.fr/braderie.php?slug=mairie-d-avelin-vetements
END:VEVENT
END:VCALENDAR
