BEGIN:VCALENDAR
VERSION:2.0
PRODID:-//Bradeur.fr//FR
CALSCALE:GREGORIAN
METHOD:PUBLISH
BEGIN:VEVENT
UID:705-mairie-d-ecaillon-brocante@bradeur.fr
DTSTAMP:20260426T032452Z
DTSTART:20260419T080000
DTEND:20260419T170000
SUMMARY:mairie d'Ecaillon — Brocante
DESCRIPTION:Vous retrouverez toutes les informations de la ville d'Écaillo
 n.\n\nDimanche 19 Avril 2026\nde 8h00 à 17h00\n\nmairie d'Ecaillon\n59176 
 Ecaillon
LOCATION:59176 Ecaillon
URL:https://bradeur.fr/braderie.php?slug=mairie-d-ecaillon-brocante
END:VEVENT
END:VCALENDAR
