BEGIN:VCALENDAR
VERSION:2.0
PRODID:-//Bradeur.fr//FR
CALSCALE:GREGORIAN
METHOD:PUBLISH
BEGIN:VEVENT
UID:1023-mairie-de-berthen-brocante@bradeur.fr
DTSTAMP:20260425T220426Z
DTSTART:20260726T060000
DTEND:20260726T140000
SUMMARY:mairie de Berthen — Brocante
DESCRIPTION:Dimanche 26 Juillet 2026\nde 6h00 à 14h00\n\nmairie de Berthen
 \n59270 Berthen
LOCATION:59270 Berthen
URL:https://bradeur.fr/braderie.php?slug=mairie-de-berthen-brocante
END:VEVENT
END:VCALENDAR
