BEGIN:VCALENDAR
VERSION:2.0
PRODID:-//Bradeur.fr//FR
CALSCALE:GREGORIAN
METHOD:PUBLISH
BEGIN:VEVENT
UID:1138-mairie-de-fretin-service-jeunesse-mairie-enfant@bradeur.fr
DTSTAMP:20260425T181004Z
DTSTART:20261121T100000
DTEND:20261121T170000
SUMMARY:Mairie de Fretin Service Jeunesse — Mairie Enfant
DESCRIPTION:Bienvenue sur le site officiel de Fretin. Découvrez ici tous l
 es services de la ville : démarches en ligne, événements, actualités et
  agenda.\n\nSamedi 21 Novembre 2026\nde 10h00 à 17h00\n\nMairie de Fretin 
 Service Jeunesse\n59273 Fretin
LOCATION:59273 Fretin
URL:https://bradeur.fr/braderie.php?slug=mairie-de-fretin-service-jeunesse-
 mairie-enfant
END:VEVENT
END:VCALENDAR
