BEGIN:VCALENDAR
VERSION:2.0
PRODID:-//Bradeur.fr//FR
CALSCALE:GREGORIAN
METHOD:PUBLISH
BEGIN:VEVENT
UID:946-mairie-de-gramat-mairie-media-broc@bradeur.fr
DTSTAMP:20260425T194504Z
DTSTART:20260607T080000
DTEND:20260607T170000
SUMMARY:mairie de Gramat — Mairie Media Broc
DESCRIPTION:Dimanche 7 Juin 2026\nde 8h00 à 17h00\n\nmairie de Gramat\n465
 00 Gramat
LOCATION:46500 Gramat
URL:https://bradeur.fr/braderie.php?slug=mairie-de-gramat-mairie-media-broc
END:VEVENT
END:VCALENDAR
