BEGIN:VCALENDAR
VERSION:2.0
PRODID:-//Bradeur.fr//FR
CALSCALE:GREGORIAN
METHOD:PUBLISH
BEGIN:VEVENT
UID:974-mairie-de-lannoy-vide-greniers@bradeur.fr
DTSTAMP:20260425T235758Z
DTSTART:20260621T070000
DTEND:20260621T133000
SUMMARY:mairie de Lannoy — Vide-greniers
DESCRIPTION:Dimanche 21 Juin 2026\nde 7h00 à 13h30\n\nmairie de Lannoy\n59
 390 Lannoy
LOCATION:59390 Lannoy
URL:https://bradeur.fr/braderie.php?slug=mairie-de-lannoy-vide-greniers
END:VEVENT
END:VCALENDAR
