BEGIN:VCALENDAR
VERSION:2.0
PRODID:-//Bradeur.fr//FR
CALSCALE:GREGORIAN
METHOD:PUBLISH
BEGIN:VEVENT
UID:663-mairie-de-pecquencourt-brocante@bradeur.fr
DTSTAMP:20260425T210048Z
DTSTART:20260412T070000
DTEND:20260412T150000
SUMMARY:Mairie de Pecquencourt — Brocante
DESCRIPTION:Dimanche 12 Avril 2026\nde 7h00 à 15h00\n\nMairie de Pecquenco
 urt\n59146 Pecquencourt
LOCATION:59146 Pecquencourt
URL:https://bradeur.fr/braderie.php?slug=mairie-de-pecquencourt-brocante
END:VEVENT
END:VCALENDAR
