BEGIN:VCALENDAR
VERSION:2.0
PRODID:-//Bradeur.fr//FR
CALSCALE:GREGORIAN
METHOD:PUBLISH
BEGIN:VEVENT
UID:633-mairie-mairie-plante@bradeur.fr
DTSTAMP:20260425T180601Z
DTSTART:20260411T153000
DTEND:20260411T173000
SUMMARY:Mairie — Mairie Plante
DESCRIPTION:Samedi 11 Avril 2026\nde 15h30 à 17h30\n\nMairie\n59890 Quesno
 y Sur Deule
LOCATION:59890 Quesnoy Sur Deule
URL:https://bradeur.fr/braderie.php?slug=mairie-mairie-plante
END:VEVENT
END:VCALENDAR
