BEGIN:VCALENDAR
VERSION:2.0
PRODID:-//Bradeur.fr//FR
CALSCALE:GREGORIAN
METHOD:PUBLISH
BEGIN:VEVENT
UID:1087-mairie-puces-1@bradeur.fr
DTSTAMP:20260425T204715Z
DTSTART:20260927T080000
DTEND:20260927T160000
SUMMARY:mairie — Puces
DESCRIPTION:Dimanche 27 Septembre 2026\nde 8h00 à 16h00\n\nmairie\n59155 F
 aches Thumesnil
LOCATION:59155 Faches Thumesnil
URL:https://bradeur.fr/braderie.php?slug=mairie-puces-1
END:VEVENT
END:VCALENDAR
