BEGIN:VCALENDAR
VERSION:2.0
PRODID:-//Bradeur.fr//FR
CALSCALE:GREGORIAN
METHOD:PUBLISH
BEGIN:VEVENT
UID:765-mairie-service-des-fetes-braderie@bradeur.fr
DTSTAMP:20260425T210314Z
DTSTART:20260501T070000
DTEND:20260501T140000
SUMMARY:Mairie > service des fêtes — Braderie
DESCRIPTION:Somain est une commune française située dans le département 
 du département du Nord (59), en région Hauts-de-France.\n\nVendredi 1 Mai
  2026\nde 7h00 à 14h00\n\nMairie > service des fêtes\n59490 Somain
LOCATION:59490 Somain
URL:https://bradeur.fr/braderie.php?slug=mairie-service-des-fetes-braderie
END:VEVENT
END:VCALENDAR
