BEGIN:VCALENDAR
VERSION:2.0
PRODID:-//Bradeur.fr//FR
CALSCALE:GREGORIAN
METHOD:PUBLISH
BEGIN:VEVENT
UID:1108-mairie-service-des-fetes-vide-greniers@bradeur.fr
DTSTAMP:20260425T180730Z
DTSTART:20261010T080000
DTEND:20261010T160000
SUMMARY:Mairie > service des fêtes — Vide-greniers
DESCRIPTION:Somain est une commune française située dans le département 
 du département du Nord (59), en région Hauts-de-France.\n\nSamedi 10 Octo
 bre 2026\nde 8h00 à 16h00\n\nMairie > service des fêtes\n59490 Somain
LOCATION:59490 Somain
URL:https://bradeur.fr/braderie.php?slug=mairie-service-des-fetes-vide-gren
 iers
END:VEVENT
END:VCALENDAR
