BEGIN:VCALENDAR
VERSION:2.0
PRODID:-//Bradeur.fr//FR
CALSCALE:GREGORIAN
METHOD:PUBLISH
BEGIN:VEVENT
UID:559-mairie-vide-greniers@bradeur.fr
DTSTAMP:20260425T180133Z
DTSTART:20260329T080000
DTEND:20260329T130000
SUMMARY:Mairie â€” Vide-greniers
DESCRIPTION:Site officiel de la Ville d'Avelin. Retrouvez toute l'actualitÃ
 ©, l'agenda culturel, les dÃ©marches administratives.\n\nDimanche 29 Mars 2
 026\nde 8h00 Ã  13h00\n\nMairie\n59710 Avelin
LOCATION:59710 Avelin
URL:https://bradeur.fr/braderie.php?slug=mairie-vide-greniers
END:VEVENT
END:VCALENDAR
