BEGIN:VCALENDAR
VERSION:2.0
PRODID:-//Bradeur.fr//FR
CALSCALE:GREGORIAN
METHOD:PUBLISH
BEGIN:VEVENT
UID:781-maison-de-pays-en-bresse-mairie-fete-du-travail-farfouille@bradeur.
 fr
DTSTAMP:20260425T194854Z
DTSTART:20260501T080000
DTEND:20260501T180000
SUMMARY:Maison de Pays en Bresse — Mairie Fete Du Travail Farfouille
DESCRIPTION:Vendredi 1 Mai 2026\nde 8h00 à 18h00\n\nMaison de Pays en Bres
 se\n01370 Saint Étienne Du Bois
LOCATION:01370 Saint Étienne Du Bois
URL:https://bradeur.fr/braderie.php?slug=maison-de-pays-en-bresse-mairie-fe
 te-du-travail-farfouille
END:VEVENT
END:VCALENDAR
