BEGIN:VCALENDAR
VERSION:2.0
PRODID:-//Bradeur.fr//FR
CALSCALE:GREGORIAN
METHOD:PUBLISH
BEGIN:VEVENT
UID:684-mam-enfant-a-saint-augustin@bradeur.fr
DTSTAMP:20260425T180416Z
DTSTART:20260412T080000
DTEND:20260412T170000
SUMMARY:Mam Enfant à Saint Augustin
DESCRIPTION:Dimanche 12 Avril 2026\nde 8h00 à 17h00\n\n62120 Saint Augusti
 n
LOCATION:62120 Saint Augustin
URL:https://bradeur.fr/braderie.php?slug=mam-enfant-a-saint-augustin
END:VEVENT
END:VCALENDAR
