BEGIN:VCALENDAR
VERSION:2.0
PRODID:-//Bradeur.fr//FR
CALSCALE:GREGORIAN
METHOD:PUBLISH
BEGIN:VEVENT
UID:987-mam-un-pas-a-la-fois-mam-enfant@bradeur.fr
DTSTAMP:20260425T210247Z
DTSTART:20260628T090000
DTEND:20260628T150000
SUMMARY:MAM un pas à la fois — Mam Enfant
DESCRIPTION:Site officiel de la mairie de Landas. Le village de Landas est 
 situé au cœur du poumon vert de la Pévèle Carembault, à égale distanc
 e (20-25 km) des agglomérations urbaines de Lille, Douai, Valenciennes en 
 France et Tournai en Belgique.\n\nDimanche 28 Juin 2026\nde 9h00 à 15h00\n
 \nMAM un pas à la fois\n59310 Landas
LOCATION:59310 Landas
URL:https://bradeur.fr/braderie.php?slug=mam-un-pas-a-la-fois-mam-enfant
END:VEVENT
END:VCALENDAR
